BEGIN:VCALENDAR
VERSION:2.0
PRODID:icalendar-ruby
CALSCALE:GREGORIAN
METHOD:PUBLISH
BEGIN:VEVENT
DTSTAMP:20260422T222835Z
UID:9-447740@iglesianuevadireccion.com
DTSTART:20260920T211500Z
DTEND:20260920T233000Z
CLASS:PUBLIC
CREATED:20260422T141831
DESCRIPTION:\n\nTe invitamos a unirte a nosotros este domingo para nuestro 
 servicio de adoración! Ven y comparte un momento especial de fe y comunid
 ad.\nEsperamos verte allí para adorar juntos. ¡Sería un honor tenerte c
 on nosotros!\n\n\n\n\n\n\n\n\n\n\n\n\n 
LAST-MODIFIED:20260422T141831
LOCATION:Iglesia nueva dirección\, Augusta
SUMMARY:Servicio de adoración
URL;VALUE=URI:https://iglesianuevadireccion.com/events/servicio-de-adoracio
 n--9/2026-09-20
ATTACH;FILENAME=IMG_1166.jpeg;FMTTYPE=image/jpeg:https://dq5pwpg1q8ru0.clou
 dfront.net/2025/08/10/15/14/16/e3a75042-4842-46b1-83ef-0fa86afe7a6d/IMG_11
 66.jpeg
END:VEVENT
END:VCALENDAR
